BEGIN:VCALENDAR
VERSION:2.0
PRODID:-//Natuurboerderij KipEigen - ECPv6.15.20//NONSGML v1.0//EN
CALSCALE:GREGORIAN
METHOD:PUBLISH
X-ORIGINAL-URL:https://kipeigen.nl
X-WR-CALDESC:Evenementen voor Natuurboerderij KipEigen
REFRESH-INTERVAL;VALUE=DURATION:PT1H
X-Robots-Tag:noindex
X-PUBLISHED-TTL:PT1H
BEGIN:VTIMEZONE
TZID:Europe/Amsterdam
BEGIN:DAYLIGHT
TZOFFSETFROM:+0100
TZOFFSETTO:+0200
TZNAME:CEST
DTSTART:20250330T010000
END:DAYLIGHT
BEGIN:STANDARD
TZOFFSETFROM:+0200
TZOFFSETTO:+0100
TZNAME:CET
DTSTART:20251026T010000
END:STANDARD
BEGIN:DAYLIGHT
TZOFFSETFROM:+0100
TZOFFSETTO:+0200
TZNAME:CEST
DTSTART:20260329T010000
END:DAYLIGHT
BEGIN:STANDARD
TZOFFSETFROM:+0200
TZOFFSETTO:+0100
TZNAME:CET
DTSTART:20261025T010000
END:STANDARD
BEGIN:DAYLIGHT
TZOFFSETFROM:+0100
TZOFFSETTO:+0200
TZNAME:CEST
DTSTART:20270328T010000
END:DAYLIGHT
BEGIN:STANDARD
TZOFFSETFROM:+0200
TZOFFSETTO:+0100
TZNAME:CET
DTSTART:20271031T010000
END:STANDARD
END:VTIMEZONE
BEGIN:VEVENT
DTSTART;TZID=Europe/Amsterdam:20260422T173000
DTEND;TZID=Europe/Amsterdam:20260422T203000
DTSTAMP:20260425T190202
CREATED:20260408T092429Z
LAST-MODIFIED:20260420T152413Z
UID:1836-1776879000-1776889800@kipeigen.nl
SUMMARY:Meehelpavond
DESCRIPTION:Woensdagavond 22 april meehelpavond\nHanden in de aarde\, hoofd leeg. Vanaf 17.30 kun je aanschuiven voor een verse maaltijd en daarna gaan we het land op tot ca 20.30/21.00. Gezellig én een gratis workout. Geef je eenvoudig op door een mail te sturen aan info@kipeigen.nl \nErvaring niet nodig\, wij helpen je op weg. \n 
URL:https://kipeigen.nl/evenement/meehelpavond-natuurboerderij-kipeigen/
LOCATION:Natuurboerderij KipEigen\, Nieuw-Loosdrechtsedijk 24\, Loosdrecht\, 1231 KX
ATTACH;FMTTYPE=image/png:https://kipeigen.nl/wp-content/uploads/2026/03/Loeka-KipEigen.png
END:VEVENT
BEGIN:VEVENT
DTSTART;TZID=Europe/Amsterdam:20260418T100000
DTEND;TZID=Europe/Amsterdam:20260418T170000
DTSTAMP:20260425T190202
CREATED:20260410T074541Z
LAST-MODIFIED:20260418T094754Z
UID:1871-1776506400-1776531600@kipeigen.nl
SUMMARY:Earth Day Festival
DESCRIPTION:Zaterdag 18 april vindt de derde editie plaats van het Earthday Festival op buitenplaats De Hoorneboeg in Hilversum. Natuurlijk staan wij er ook met onze overvolle bakfietskraam waar je eieren\, groente\, inspiratie en informatie kan scoren. Eitjes kunnen we voor je apart leggen tot je vertrek. \nJe bent de hele dag (van 10.00 tot 17.00 uur) welkom om over de markt te struinen\, met de leukste lokale ondernemers die werken aan een betere wereld. Ook kun je genieten van muziek in de moestuin van Bij de Tuinman en allerlei workshops volgen. Je hebt hier geen ticket voor nodig. Leuk als je komt aanwaaien. Met Natuurboerderij KipEigen staan we hier met een bakfiets-kraampje\, waar je . \nDaarnaast worden er ook allerlei (kinder)activiteiten georganiseerd\, waar je tickets voor kunt kopen. Kijk hier voor voor meer informatie.
URL:https://kipeigen.nl/evenement/earth-day-festival/
LOCATION:Buitenplaats de Hoorneboeg\, Hilversum
CATEGORIES:Evenement
ATTACH;FMTTYPE=image/jpeg:https://kipeigen.nl/wp-content/uploads/2026/04/bakfietskraam.jpg
END:VEVENT
BEGIN:VEVENT
DTSTART;TZID=Europe/Amsterdam:20260418T100000
DTEND;TZID=Europe/Amsterdam:20260418T150000
DTSTAMP:20260425T190202
CREATED:20260225T132143Z
LAST-MODIFIED:20260415T082754Z
UID:1367-1776506400-1776524400@kipeigen.nl
SUMMARY:Verzet: workshop opkweek - Plant in eigen hand
DESCRIPTION:In verband met Earthday Festival 18 april\, is deze workshop verzet. \nNieuwe datum najaar volgt binnenkort! \n  \nZelf groente en kruiden opkweken. Low tech\, zonder poespas. Onder omstandigheden zoals jij die bepaalt. Dat geeft de beste start en grip op een belangrijk deel van het groeiproces. In de workshop OPKWEEK leer je onze diverse opkweekmethodes zelf toe te passen. \nWil je zelf mooie en sterke groentes\, bloemen en kruiden opkweken vanaf zaad? Heb je jouw planten het liefst vanaf zaad in eigen hand? Leer dan van onze ervaren hoofdtuinder Saskia van Gelderen en geef je plantjes een voorsprong. \n\nJe leert welke zaden en zaaibenodigdheden fijn werken\, hoe je omgaat met licht en temperatuur en hoe je je ruimte zo optimaal kunt gebruiken.\nJe leert hoe je ook met beperkte middelen en ruimte toch fantastisch resultaat kunt bereiken.\nWe delen alles over de diverse opkweekmethodes op de natuurboerderij\, waarom we voor welke methode kiezen en in welke situatie.\nJe leert handige tips & tricks over het zaaien met de trays van Charles Dowding\, en het maken van perspotjes. Je oefent hier ook mee tijdens de cursus.\nOok leer je hoe je de opkweek verwerkt in je teeltplan en ga je hier tijdens deze cursus mee aan de slag.\nEr is ruimte voor al je vragen en het meedenken met jouw situatie.\n\nNajaar als vergeten plantseizoen\nKortom\, je gaat met een schat aan kennis en ervaring naar huis. Het extra goede nieuws? Het najaar is de perfecte periode om je teeltplannen te maken en richting voorzaaien te gaan. Tegen de tijd dat je opkweek de volle grond in mag\, heb jij al een vliegende start gemaakt. \nVoor wie?\nTuiniers van alle niveaus zijn welkom\, ook als groentje kun je meedoen! Of je nu een volkstuin\, achtertuin of balkon hebt\, het goed leren opkweken is altijd de moeite waard. \nHoe kweken wij op de boerderij op?\nBij Natuurboerderij KipEigen kweken we vanaf het begin al onze groente 100% zelf op en dat voor 2000 m2 aan no-dig moestuin. Zonder warmtevoorziening en met een kleine kas\, waardoor we ook veel buiten doen. Met succes! Onze manier van opkweken is op elke schaal toepasbaar.
URL:https://kipeigen.nl/evenement/workshop-opkweek/
LOCATION:Natuurboerderij KipEigen\, Nieuw-Loosdrechtsedijk 24\, Loosdrecht\, 1231 KX
CATEGORIES:Workshop
ATTACH;FMTTYPE=image/jpeg:https://kipeigen.nl/wp-content/uploads/2026/02/2097AE1.jpg
END:VEVENT
BEGIN:VEVENT
DTSTART;TZID=Europe/Amsterdam:20260416T193000
DTEND;TZID=Europe/Amsterdam:20260416T210000
DTSTAMP:20260425T190202
CREATED:20260409T135455Z
LAST-MODIFIED:20260409T164015Z
UID:1843-1776367800-1776373200@kipeigen.nl
SUMMARY:Gratis vlinderlezing - Kars Veling | Vlinderstichting
DESCRIPTION:Deze inspirerende avondlezing wordt gegeven door Kars Veling van de Vlinder Stichting. \nVrijwilliger Dolf organiseert in samenwerking met Natuurboerderij KipEigen 16 april de lezing ‘Help de vlinder’. Met onderwerpen die uiteenlopen van natuurinclusieve landbouw tot biodiversiteit in de stad. Kars Veling van de Vlinder Stichting is één van de grootste vlinderdeskundigen van Nederland. \nAls het goed gaat met de vlinder…\nVlinders zijn sterke en gevoelige indicatoren voor de kwaliteit van landschap en leefomgeving. Gaat het de vlinder goed\, dan blijken ook andere insecten beter te gedijen\, zo wijst onderzoek uit. Kars duikt met ons in de vaak complexe wereld van de vlinder en geeft ons handvatten hoe de leefomgeving te verbeteren\, wat soms nauw luistert. \nVlinderbuffet op de boerderij\nNatuurliefhebber Dolf vult hier nog op aan:”Als het goed gaat met de vlinders\, gaat het goed met de mens”. Op Natuurboerderij KipEigen zijn al tal van poppen\, rupsen en vlinders gevonden en gedetermineerd. Daar komen er straks vast meer bij\, dankzij de stroken die Dolf op op de natuurboerderij heeft ingezaaid voor bestuivers. \nENTREE IS GRATIS\nAANMELDEN NIET NODIG \nVoor wie?\nKennisrijk en inspirerend voor iedereen die het vergroten van biodiversiteit en daarmee een veerkrachtige natuur een warm hart toedraagt.  \nNeem gerust vrienden\, familie\, buren en kennissen mee. De vlinder is van groot belang voor iedereen. \n\n		\n		\n			\n				\n			\n			\n				\n			\n			\n				\n			\n			\n				\n			\n			\n				\n			\n			\n				\n			\n			\n				\n			\n			\n				\n			\n			\n				\n			\n		\n\n 
URL:https://kipeigen.nl/evenement/vlinderlezing-kars-veling-vlinderstichting/
LOCATION:VONK in de wijk\, Kleine Drift 41\, Hilversum\, Netherlands
ATTACH;FMTTYPE=image/png:https://kipeigen.nl/wp-content/uploads/2026/04/Konninginnepage.png
END:VEVENT
BEGIN:VEVENT
DTSTART;TZID=Europe/Amsterdam:20260411T110000
DTEND;TZID=Europe/Amsterdam:20260411T150000
DTSTAMP:20260425T190202
CREATED:20260309T100605Z
LAST-MODIFIED:20260410T071807Z
UID:1529-1775905200-1775919600@kipeigen.nl
SUMMARY:Open Erf 2026
DESCRIPTION:Natuurboerderij KipEigen in Loosdrecht gooit 11/4 de hekken wagenwijd open voor Open Erf 2026. Van 11.00 tot 15.00 kan echt iedereen komen koekeloeren op het land. Gratis entree. Tijdens Open Erf is de natuurboerderij een ontdekplek voor alle leeftijden. Natuurworkshops\, kipknuffelen\, schminken\, oudhollandse spellen\, rondleidingen en meer.Programma:11.00 – Hek open11.00 – 15.00  Oudhollandse spelletjes\, op de Kiek met de Riek\, boerenkraam\, koffie\, thee en lekkernijen.11.15 – 11.30 Wildzaai-workshop jong & oud11.45 /12.45 / 13.45 / 14.45 Levende fruitautomaat11.30 – 12.00  Rondleiding natuurboerderij12.00 – 13.30  Schminken12.00 – 14.00  Broodje Natuurherstel (regeneratief ei met verse kruiden)12.15 – 12.45  Workshop natuurlijk eieren verven – € 10 (max 10 personen)13.15 – 13.45  Rondleiding moestuin & boerderij14.00 – 14.30  Wilde flora wandelingworkshop – € 1014.00 – 14.30  Kipknuffelen15.00 – Einde & uitzwaaien \n\n		\n		\n			\n				\n			\n			\n				\n			\n			\n				\n			\n		\n\n  \nBoek vast je mini-workshopBeide mini-workshops kunnen alvast via de webshop geboekt worden (vol = vol).  \n\nBoek hier de workshop Natuurlijk eieren beschilderen\nBoek hier de workshop Wilde flora wandeling\n\nLevende fruitautomaatOp het menu staat ook iets bijzonders: een Broodje Natuurherstel. Dat wat er gebeurt als landbouw en natuur weer samenwerken. Wie trek heeft in een gokje bezoekt de Levende Fruitautomaat: trek aan de hendel en kijk welk stuk fruit eruit rolt. De opbrengst komt o.a. ten goede aan het welzijn en de medische verzorging van de dieren\, maar ook gespecialiseerd tuingereedschap zodat we met de hand kunnen blijven werken. \n\n		\n		\n			\n				\n			\n			\n				\n			\n			\n				\n			\n		\n\nPret met een boerderijpakketBenieuwd waar je eten vandaan komt? Dan kun je aanhaken bij de rondleiding of de boerderijpakketten ontdekken. Hoe werkt zo’n pakket? Wat zit erin? Ben ik nog op tijd? (Jazeker!) Hoe zit het met dierenwelzijn? En hoe makkelijk is het om wekelijks verse groenten en eieren van dichtbij huis te eten? De toekomstboeren vertellen er graag over.Blije kippenVoel je vrij om rond te lopen\, de blije kippen te bewonderen en te proeven van natuurherstel. Dat is misschien wel het belangrijkste: gewoon genieten op een boerderij die van en voor iedereen is\, zoals een Community Supported Agriculture bedoeld is. Ondertussen kun je nadenken over een goede naam met een D voor het lammetje dat als eerste geboren wordt. Gooi deze in de ton en wie weet heb jij de winnende naam… \nKom vooral lopend of met de fiets. Volg de bordjes vanaf verzorgingstehuis De Beukenhof. Producten\, mini-workshops en consumpties kun je ter plekke pinnen of contant betalen. \n\n		\n		\n			\n				\n			\n			\n				\n			\n			\n				\n			\n		\n\nTot zaterdag 11 april op het erf van Natuurboerderij KipEigen. Vergeet niet je vrienden\, familie\, buren en klasgenoten uit te nodigen voor een heerlijke dag buiten.
URL:https://kipeigen.nl/evenement/open-erf-2026/
LOCATION:Natuurboerderij KipEigen\, Nieuw-Loosdrechtsedijk 24\, Loosdrecht\, 1231 KX
CATEGORIES:Evenement
ATTACH;FMTTYPE=image/png:https://kipeigen.nl/wp-content/uploads/2026/03/OPEN-ERF-2026-UITGELICHT.png
END:VEVENT
BEGIN:VEVENT
DTSTART;VALUE=DATE:20260411
DTEND;VALUE=DATE:20260412
DTSTAMP:20260425T190202
CREATED:20260328T165958Z
LAST-MODIFIED:20260328T165958Z
UID:1817-1775865600-1775951999@kipeigen.nl
SUMMARY:Wilde Flora Wandeling
DESCRIPTION:Met deze interessante wilde flora wandeling neemt Christine je mee in een halfuur durende wandeling langs bloeiende bermen\, weides en moestuin. Ze vertelt over dit gebied\, de Ster van Loosdrecht\, dat Natura2000 is. Ze vertelt over de bodemsoorten\, de inheemse planten die je hier van nature vindt en wat voor betekenis deze planten hebben. Zowel voor de natuur\, als voor ons mensen\, en wat deze planten zeggen over de grond waarin ze groeien. Na deze wandeling ga je met veel kennis naar huis over de lokale inheemse flora. Je zal nooit meer op dezelfde manier naar een veldje kijken! \nDatum: zaterdag 11 april \nDe workshop wordt gehouden tijdens het Open Erf dat van 11:00-15:00 plaatsvindt. Exacte tijd voor deze workshop volgt later. \nWorkshopbegeleider: Christine Tamminga\, natuurdocent bij IVN\, vrijwilliger bij Natuurboerderij KipEigen en wandelende plantenencyclopedie.  \n\n		\n		\n			\n				\n			\n			\n				\n			\n			\n				\n			\n		\n \nOok op 11 april: \nWilde flora wandeling – 11 april 2026 – Natuurboerderij KipEigen
URL:https://kipeigen.nl/evenement/workshop-wilde-flora-wandeling/
LOCATION:Natuurboerderij KipEigen\, Nieuw-Loosdrechtsedijk 24\, Loosdrecht\, 1231 KX
CATEGORIES:Workshop
ATTACH;FMTTYPE=image/png:https://kipeigen.nl/wp-content/uploads/2026/03/wilde-flora-workshop.png
END:VEVENT
BEGIN:VEVENT
DTSTART;VALUE=DATE:20260411
DTEND;VALUE=DATE:20260412
DTSTAMP:20260425T190202
CREATED:20260328T164823Z
LAST-MODIFIED:20260328T164823Z
UID:1813-1775865600-1775951999@kipeigen.nl
SUMMARY:Workshop Natuurlijk Eieren Verven
DESCRIPTION:Pasen is weliswaar al geweest maar deze prachtige eieren wil je toch elke dag op tafel? We gaan echte KipEigen eieren verven met natuurlijke materialen zoals uienschillen\, kurkuma en rode kool. Met bloemen en blaadjes maken we prachtige patronen zodat je geen ei\, maar een kunstwerk mee naar huis neemt! Je krijgt na afloop 1 ei met print mee naar huis en 1 ei die je thuis nog verder afmaakt. En natuurlijk heb je alle theorie in huis zodat je in je eigen keuken nog verder kunt experimenteren! \nKinderen vanaf 8 jaar zijn met begeleiding ook welkom! \nDeze workshop duurt een half uur. \nDatum: zaterdag 11 april \nDe workshop wordt gehouden tijdens het Open Erf dat van 11:00-15:00 plaatsvindt. Exacte tijd voor deze workshop volgt later. \n\nWorkshopbegeleider: Saskia van Gelderen\, hoofdtuinder van Natuurboerderij KipEigen. Naast tuinder is ze ook kunstenaar\, en ze vind het heerlijk deze twee talenten te combineren.  \n\n		\n		\n			\n				\n			\n			\n				\n			\n			\n				\n			\n		\n \nOok op 11 april: \nWilde flora wandeling – 11 april 2026 – Natuurboerderij KipEigen
URL:https://kipeigen.nl/evenement/workshop-eieren-verven/
LOCATION:Natuurboerderij KipEigen\, Nieuw-Loosdrechtsedijk 24\, Loosdrecht\, 1231 KX
CATEGORIES:Workshop
ATTACH;FMTTYPE=image/jpeg:https://kipeigen.nl/wp-content/uploads/2026/03/open-erf-optie01-scaled.jpg
END:VEVENT
BEGIN:VEVENT
DTSTART;TZID=Europe/Amsterdam:20260330T093000
DTEND;TZID=Europe/Amsterdam:20260330T163000
DTSTAMP:20260425T190202
CREATED:20260225T130850Z
LAST-MODIFIED:20260306T101955Z
UID:1350-1774863000-1774888200@kipeigen.nl
SUMMARY:Dagcursus Bodemleven
DESCRIPTION:De dagcursus Bodemleven is in samenwerking met Nikki Daniëls van De Compostkeuken. \nVoor wie? Professionele boeren\, tuinders\, voedselbosbouwers\, hoveniers. Serieuze hobbyisten en geïnteresseerde burgers ook welkom. \nGedurende deze dag leer je alles over bodemleven: je krijgt de nodige theorie\, kijkt mee door de microscoop\, we doen een bodemvoedselwebanalyse\, en je krijgt een rondleiding van Eva Vos op Natuurboerderij KipEigen: pionier op het gebied van regeneratieve landbouw. Na de gezamenlijke lunch gaan we verder met theorie over ecologische successie en gaan we observeren en de bodem van Natuurboerderij KipEigen analyseren met de SSQR-methode. Het laatste deel van de dag ga je aan de slag met een ontwerpopdracht\, die we afsluitend met elkaar bespreken. \nKortom: een dag vól kennis en praktische toepassing! Profiteer van de kennis van Nikki\, expert op het gebied van bodemleven en van de kennis en ervaring die we hier op Natuurboerderij KipEigen de afgelopen jaren hebben opgedaan. \nInclusief lunch. (Zet eventuele allergenen of dieetwensen in het opmerkingenveld bij het afrekenen.)\nTijd: 9.30 – 16.30 uur \nVoorwaarden \nBij het reserveren en betalen van jouw plek in een cursus\, workshop of rondleiding\, gelden de volgende voorwaarden: \n\nBij annulering is 100% geld terug mogelijk tot 2 maanden voor de gereserveerde datum.\nWanneer annulering plaatsvindt binnen 8 weken vóór de gereserveerde datum\, ontvang je 50% van het cursusgeld terug en binnen 4 weken geldt een restitutie van 25%\, i.v.m. het vrijhouden van jouw plek in de cursusgroep.\nWanneer een reservering later dan 2 weken voor aanvang van de cursus geannuleerd wordt\, kunnen wij geen cursusgeld restitueren.\nBij ziekte/overmacht is het in overleg mogelijk om jouw reservering kosteloos door te schuiven naar een cursusdatum verder in de toekomst.
URL:https://kipeigen.nl/evenement/dagcursus-bodemleven/
LOCATION:Natuurboerderij KipEigen\, Nieuw-Loosdrechtsedijk 24\, Loosdrecht\, 1231 KX
CATEGORIES:Cursussen
ATTACH;FMTTYPE=image/jpeg:https://kipeigen.nl/wp-content/uploads/2025/12/istockphoto-1219153137-612x612-1.jpeg
END:VEVENT
BEGIN:VEVENT
DTSTART;VALUE=DATE:20260328
DTEND;VALUE=DATE:20260329
DTSTAMP:20260425T190202
CREATED:20260317T082055Z
LAST-MODIFIED:20260317T083844Z
UID:1595-1774656000-1774742399@kipeigen.nl
SUMMARY:Moestuinbeurs - lezing Kippen in de Moestuin
DESCRIPTION:Over het praktische\, ecologische en veelzijdige nut van kippen in de moestuin raakt Eva Vos niet uitgepraat. Toch gaat ze een poging wagen op 28 maart tijdens haar lezing Kippen in de Moestuin op de Moestuinbeurs op Landgoed Middachten (GLD). Van 14.30 – 15.00\, Rondeel Podium. Voor de lezing hoef je niet te reserveren\, maar kom op tijd voor een fijn plekje. \nWat is de Moestuinbeurs?\nDe Moestuinbeurs is een jaarlijks terugkerend evenement dat dit jaar van 27 t/m 29 maart wordt gehouden. Op de Moestuinbeurs 2026 kunnen moestuinliefhebbers van alle leeftijden en niveau’s hun hart weer ophalen. Met een gevarieerd programma vol workshops\, lezingen en rondleidingen\, maar ook producten om je moestuin sterker\, gezonder en ecologischer te maken. Grote kans dat je hier met meer zaden\, bollen\, knollen en stekjes naar huis gaat\, dan je van plan was. Hopelijk zien we je daar! \nWie is Eva Vos?\nEva Vos is oprichter van Natuurboerderij KipEigen. Ze begon de boerderij ooit met haar dubbeldoelkippen\, maar de plek is inmiddels uitgegroeid tot een natuurboerderij die door voedselproductie natuurherstel mogelijk maakt. Natuurboerderij Kipeigen is een Community Supported Agriculture. CSA-deelnemers nemen jaarlijks een boerderijpakket met groente af\, eventueel aangevuld met eieren en/of vlees. Eva is van origine dierwetenschapper\, daarnaast is ze agro-ecologisch ontwerper en begeleidt ze boeren naar het omschakelen van reguliere naar duurzame en regeneratieve landbouw.
URL:https://kipeigen.nl/evenement/moestuinbeurs/
LOCATION:Landgoed Middachten\, de Steeg (GLD)\, Smidsallee\, De Steeg\, Gelderland\, 6994 BJ\, Netherlands
CATEGORIES:Evenement
ATTACH;FMTTYPE=image/jpeg:https://kipeigen.nl/wp-content/uploads/2026/01/20240913_132324_IH.jpg
END:VEVENT
BEGIN:VEVENT
DTSTART;TZID=Europe/Amsterdam:20260313T093000
DTEND;TZID=Europe/Amsterdam:20260313T160000
DTSTAMP:20260425T190202
CREATED:20251218T140003Z
LAST-MODIFIED:20260306T133309Z
UID:597-1773394200-1773417600@kipeigen.nl
SUMMARY:NLdoet
DESCRIPTION:Vrijwilliger voor een dag van 9:30 -16:00: Samen aan de slag op de natuurboerderij!
URL:https://kipeigen.nl/evenement/nldoet/
LOCATION:Natuurboerderij KipEigen\, Nieuw-Loosdrechtsedijk 24\, Loosdrecht\, 1231 KX
CATEGORIES:Evenement
ATTACH;FMTTYPE=image/jpeg:https://kipeigen.nl/wp-content/uploads/2025/12/vrijwilligers-natuurboerderij-KipEigen.jpg
END:VEVENT
END:VCALENDAR