BEGIN:VCALENDAR
VERSION:2.0
PRODID:-//Natuurboerderij KipEigen - ECPv6.15.20//NONSGML v1.0//EN
CALSCALE:GREGORIAN
METHOD:PUBLISH
X-WR-CALNAME:Natuurboerderij KipEigen
X-ORIGINAL-URL:https://kipeigen.nl
X-WR-CALDESC:Evenementen voor Natuurboerderij KipEigen
REFRESH-INTERVAL;VALUE=DURATION:PT1H
X-Robots-Tag:noindex
X-PUBLISHED-TTL:PT1H
BEGIN:VTIMEZONE
TZID:Europe/Amsterdam
BEGIN:DAYLIGHT
TZOFFSETFROM:+0100
TZOFFSETTO:+0200
TZNAME:CEST
DTSTART:20250330T010000
END:DAYLIGHT
BEGIN:STANDARD
TZOFFSETFROM:+0200
TZOFFSETTO:+0100
TZNAME:CET
DTSTART:20251026T010000
END:STANDARD
BEGIN:DAYLIGHT
TZOFFSETFROM:+0100
TZOFFSETTO:+0200
TZNAME:CEST
DTSTART:20260329T010000
END:DAYLIGHT
BEGIN:STANDARD
TZOFFSETFROM:+0200
TZOFFSETTO:+0100
TZNAME:CET
DTSTART:20261025T010000
END:STANDARD
BEGIN:DAYLIGHT
TZOFFSETFROM:+0100
TZOFFSETTO:+0200
TZNAME:CEST
DTSTART:20270328T010000
END:DAYLIGHT
BEGIN:STANDARD
TZOFFSETFROM:+0200
TZOFFSETTO:+0100
TZNAME:CET
DTSTART:20271031T010000
END:STANDARD
END:VTIMEZONE
BEGIN:VEVENT
DTSTART;TZID=Europe/Amsterdam:20261121T100000
DTEND;TZID=Europe/Amsterdam:20261121T130000
DTSTAMP:20260426T052629
CREATED:20260225T133017Z
LAST-MODIFIED:20260328T144342Z
UID:1382-1795255200-1795266000@kipeigen.nl
SUMMARY:Workshop Oogst verwerken | winter
DESCRIPTION:Winterworkshop – rust\, brood en miso\n\nIn de winter is er tijd voor langzame processen en diepe smaken. \n\nTijdens deze workshop kijken we naar traditionele technieken zoals:\n•desembrood\n•het maken van miso\n\nEen inspirerende workshop waarin geduld\, smaak en ambacht centraal staan.\n\nTip: met het Workshop-pakket Vier Seizoenen volg je deze workshop met nog drie andere voor een mooie pakketprijs. \nWorkshop-pakket Vier seizoenen | Oogst verwerken
URL:https://kipeigen.nl/evenement/workshop-oogst-verwerken-winter/
LOCATION:Natuurboerderij KipEigen\, Nieuw-Loosdrechtsedijk 24\, Loosdrecht\, 1231 KX
CATEGORIES:Workshop
ATTACH;FMTTYPE=image/jpeg:https://kipeigen.nl/wp-content/uploads/2026/02/WhatsApp-Image-2026-03-19-at-14.25.56-scaled.jpeg
END:VEVENT
END:VCALENDAR