BEGIN:VCALENDAR
VERSION:2.0
PRODID:-//Natuurboerderij KipEigen - ECPv6.15.20//NONSGML v1.0//EN
CALSCALE:GREGORIAN
METHOD:PUBLISH
X-WR-CALNAME:Natuurboerderij KipEigen
X-ORIGINAL-URL:https://kipeigen.nl
X-WR-CALDESC:Evenementen voor Natuurboerderij KipEigen
REFRESH-INTERVAL;VALUE=DURATION:PT1H
X-Robots-Tag:noindex
X-PUBLISHED-TTL:PT1H
BEGIN:VTIMEZONE
TZID:Europe/Amsterdam
BEGIN:DAYLIGHT
TZOFFSETFROM:+0100
TZOFFSETTO:+0200
TZNAME:CEST
DTSTART:20250330T010000
END:DAYLIGHT
BEGIN:STANDARD
TZOFFSETFROM:+0200
TZOFFSETTO:+0100
TZNAME:CET
DTSTART:20251026T010000
END:STANDARD
BEGIN:DAYLIGHT
TZOFFSETFROM:+0100
TZOFFSETTO:+0200
TZNAME:CEST
DTSTART:20260329T010000
END:DAYLIGHT
BEGIN:STANDARD
TZOFFSETFROM:+0200
TZOFFSETTO:+0100
TZNAME:CET
DTSTART:20261025T010000
END:STANDARD
BEGIN:DAYLIGHT
TZOFFSETFROM:+0100
TZOFFSETTO:+0200
TZNAME:CEST
DTSTART:20270328T010000
END:DAYLIGHT
BEGIN:STANDARD
TZOFFSETFROM:+0200
TZOFFSETTO:+0100
TZNAME:CET
DTSTART:20271031T010000
END:STANDARD
END:VTIMEZONE
BEGIN:VEVENT
DTSTART;TZID=Europe/Amsterdam:20260606T100000
DTEND;TZID=Europe/Amsterdam:20260606T130000
DTSTAMP:20260425T203446
CREATED:20260225T131657Z
LAST-MODIFIED:20260306T131046Z
UID:1359-1780740000-1780750800@kipeigen.nl
SUMMARY:Introductie Regeneratieve Landbouw
DESCRIPTION:Landbouw die werkt aan natuurherstel\, koolstofvastlegging en dierwaardig leven: Het kan! \nVoor wie wil weten wat regeneratieve landbouw precies inhoudt\, organiseren we deze speciale basiscursus. \nOp deze zaterdagochtend (10:00-13:00u) leggen we de basics uit en laten we je zien hoe we hier in de pratijk mee bezig zijn op onze Regeneratieve Natuurboerderij in Loosdrecht. Onderwerpen die aan bod komen: No-dig market garden\, regeneratieve begrazing met kippen en schapen\, voedselbos\, natuur en biodiversiteit\, klimaat\, dierwaardig leven. \nNeem je notitieboekje mee en trek je laarzen aan! \nVoorwaarden \nBij het reserveren en betalen van jouw plek in een cursus\, workshop of rondleiding\, gelden de volgende voorwaarden: \n\nBij annulering is 100% geld terug mogelijk tot 2 maanden voor de gereserveerde datum.\nWanneer annulering plaatsvindt binnen 8 weken vóór de gereserveerde datum\, ontvang je 50% van het cursusgeld terug en binnen 4 weken geldt een restitutie van 25%\, i.v.m. het vrijhouden van jouw plek in de cursusgroep.\nWanneer een reservering later dan 2 weken voor aanvang van de cursus geannuleerd wordt\, kunnen wij geen cursusgeld restitueren.\nBij ziekte/overmacht is het in overleg mogelijk om jouw reservering kosteloos door te schuiven naar een cursusdatum verder in de toekomst.
URL:https://kipeigen.nl/evenement/introductie-regeneratieve-landbouw/
LOCATION:Natuurboerderij KipEigen\, Nieuw-Loosdrechtsedijk 24\, Loosdrecht\, 1231 KX
CATEGORIES:Cursussen
ATTACH;FMTTYPE=image/jpeg:https://kipeigen.nl/wp-content/uploads/2025/12/20230503_072821_IH.jpg
END:VEVENT
BEGIN:VEVENT
DTSTART;TZID=Europe/Amsterdam:20260613T103000
DTEND;TZID=Europe/Amsterdam:20260613T120000
DTSTAMP:20260425T203446
CREATED:20251218T140251Z
LAST-MODIFIED:20260306T133235Z
UID:599-1781346600-1781352000@kipeigen.nl
SUMMARY:Rondleiding
DESCRIPTION:Ongeveer wekelijks krijgen we vragen van mensen of ze eens bij ons mogen komen kijken. Deze belangstelling vinden we natuurlijk geweldig\, maar als we hier elke keer op in zouden gaan\, komen we aan werken niet meer toe! \nWees welkom op de rondleiding\, waarbij we op zaterdagochtend 1\,5 uur de tijd nemen om alle geïnteresseerden mee te nemen in ons verhaal\, waarbij we alle onderdelen laten zien van onze boerderij: kippen in de boomgaard\, no-dig groentetuin\, mini-voedselbos\, holistische begrazing met schapen\, en al het andere wat in ons paradijs groeit en bloeit. Er is ruimte om al je vragen te stellen! We vragen een bijdrage aan onze regeneratieve missie van 20 euro voor volwassen deelnemers; kinderen tot 16 jaar mogen kosteloos mee. We beginnen om 10:30 en ronden uiterlijk af om 12:00 uur. \ninclusief koffie/thee en wat lekkers \nTip: we gaan ook off-road\, dus trek niet je nieuwste schoenen aan\, en kijk even goed naar het weerbericht: bij veel regen wordt het land snel drassig\, dus trek dan je regenlaarzen aan.
URL:https://kipeigen.nl/evenement/rondleiding/
CATEGORIES:Rondleiding
ATTACH;FMTTYPE=image/jpeg:https://kipeigen.nl/wp-content/uploads/2025/12/rondleiding.jpg
END:VEVENT
BEGIN:VEVENT
DTSTART;TZID=Europe/Amsterdam:20260620T130000
DTEND;TZID=Europe/Amsterdam:20260620T160000
DTSTAMP:20260425T203446
CREATED:20260327T201147Z
LAST-MODIFIED:20260328T135943Z
UID:1756-1781960400-1781971200@kipeigen.nl
SUMMARY:Cyano & planten - afdruk op kussenhoes
DESCRIPTION:Ontdek de magie van cyanotype\, een eeuwenoude techniek waarbij zonlicht en planten samenkomen in diepe\, blauwe afdrukken. Tijdens deze workshop leer je stap voor stap hoe je zelf lichtgevoelig materiaal maakt en hoe onder invloed van de zon een beeld langzaam verschijnt. Een bijzonder proces\, dat voelt als een vroege vorm van fotografie. \nWe beginnen met de basis op papier\, zodat je de techniek goed leert begrijpen en ook thuis verder kunt experimenteren. Daarna ga je zelf aan de slag met botanische prints\, gemaakt met plantmateriaal van de boerderij. Je kunt dit combineren met eigen vormen of tekeningen op transparante sheets en neem vooral ook iets van thuis mee dat een mooi silhouet geeft\, zoals kant of kleine platte objecten. \nJe werkt toe naar een eigen eindstuk: een kussenhoes van 40×40 cm met jouw unieke blauwdruk. Alle materialen zijn inbegrepen. Ongeveer twee weken vooraf ontvang je extra informatie en kun je je voorkeur voor de kleur van de kussenhoes doorgeven. \nWorkshopbegeleider\nSaskia van Gelderen\, hoofdtuinder bij Natuurboerderij KipEigen en kunstenaar. \n\n		\n		\n			\n				\n			\n			\n				\n			\n			\n				\n			\n		\n \nWorkshopbijdrage € 75 – inclusief materialen \nVragen? info@kipeigen.nl
URL:https://kipeigen.nl/evenement/cyano-planten-afdruk-op-kussenhoes/
LOCATION:Natuurboerderij KipEigen\, Nieuw-Loosdrechtsedijk 24\, Loosdrecht\, 1231 KX
CATEGORIES:Workshop
ATTACH;FMTTYPE=image/jpeg:https://kipeigen.nl/wp-content/uploads/2026/02/cyanotypes-kussenhoezen-scaled.jpg
END:VEVENT
BEGIN:VEVENT
DTSTART;TZID=Europe/Amsterdam:20260627T093000
DTEND;TZID=Europe/Amsterdam:20260627T130000
DTSTAMP:20260425T203446
CREATED:20260225T132019Z
LAST-MODIFIED:20260327T202552Z
UID:1365-1782552600-1782565200@kipeigen.nl
SUMMARY:Workshop Kip Slachten
DESCRIPTION:In deze workshop leer je in kleine setting zelf kip slachten op de meest diervriendelijke wijze. Na de theorie en demonstratie word je persoonlijk begeleid: van verdoven\, slachten en plukken tot het uitsnijden en schoonmaken van de kip (per persoon 2 kippen). De workshop duurt van 9:30-13:00 uur en is inclusief 2 vleeshanen van KipEigen t.w.v. € 67\,50. \nWil je leren hoe je zelf een kip kunt slachten op de meest diervriendelijke manier? Goede informatie en instructies om dit op de juiste manier te doen zijn online nauwelijks te vinden. Omdat wij het heel belangrijk vinden dat ook de laatste dag van het dier stressloos verloopt\, wil ik je graag leren hoe je dit op de juiste manier doet in deze kleinschalige workshop (maximaal 6 deelnemers). Stap voor stap neem ik je mee in het proces\, zodat je het met vertrouwen zelf kunt doen. Als je liever alleen kijkt en leert\, is dat natuurlijk ook prima. \nWij stellen per deelnemer twee hanen van KipEigen beschikbaar om te slachten. De geslachte kippen neem je mee naar huis\, dus neem een koelbox mee. Daarnaast is het handig om kleding en schoeisel aan te trekken die vies mogen worden. De benodigde apparatuur en messen worden beschikbaar gesteld\, dus je hoeft verder niets mee te nemen. (De prijs is inclusief 2 vleeshanen van KipEigen t.w.v. 67\,50 euro) \nVoorwaarden \nBij het reserveren en betalen van jouw plek in een cursus\, workshop of rondleiding\, gelden de volgende voorwaarden: \n\nBij annulering is 100% geld terug mogelijk tot 2 maanden voor de gereserveerde datum.\nWanneer annulering plaatsvindt binnen 8 weken vóór de gereserveerde datum\, ontvang je 50% van het cursusgeld terug en binnen 4 weken geldt een restitutie van 25%\, i.v.m. het vrijhouden van jouw plek in de cursusgroep.\nWanneer een reservering later dan 2 weken voor aanvang van de cursus geannuleerd wordt\, kunnen wij geen cursusgeld restitueren.\nBij ziekte/overmacht is het in overleg mogelijk om jouw reservering kosteloos door te schuiven naar een cursusdatum verder in de toekomst.
URL:https://kipeigen.nl/evenement/workshop-kip-slachten/
LOCATION:Natuurboerderij KipEigen\, Nieuw-Loosdrechtsedijk 24\, Loosdrecht\, 1231 KX
CATEGORIES:Workshop
ATTACH;FMTTYPE=image/png:https://kipeigen.nl/wp-content/uploads/2026/02/kip-slachten-workshop-KipEigen.png
END:VEVENT
BEGIN:VEVENT
DTSTART;TZID=Europe/Amsterdam:20260629T093000
DTEND;TZID=Europe/Amsterdam:20260629T130000
DTSTAMP:20260425T203446
CREATED:20260306T132529Z
LAST-MODIFIED:20260327T202725Z
UID:1479-1782725400-1782738000@kipeigen.nl
SUMMARY:Workshop Kip Slachten
DESCRIPTION:In deze workshop leer je in kleine setting zelf kip slachten op de meest diervriendelijke wijze. Na de theorie en demonstratie word je persoonlijk begeleid: van verdoven\, slachten en plukken tot het uitsnijden en schoonmaken van de kip (per persoon 2 kippen). De workshop duurt van 9:30-13:00 uur en is inclusief 2 vleeshanen van KipEigen t.w.v. € 67\,50. \nWil je leren hoe je zelf een kip kunt slachten op de meest diervriendelijke manier? Goede informatie en instructies om dit op de juiste manier te doen zijn online nauwelijks te vinden. Omdat wij het heel belangrijk vinden dat ook de laatste dag van het dier stressloos verloopt\, wil ik je graag leren hoe je dit op de juiste manier doet in deze kleinschalige workshop (maximaal 6 deelnemers). Stap voor stap neem ik je mee in het proces\, zodat je het met vertrouwen zelf kunt doen. Als je liever alleen kijkt en leert\, is dat natuurlijk ook prima. \nWij stellen per deelnemer twee hanen van KipEigen beschikbaar om te slachten. De geslachte kippen neem je mee naar huis\, dus neem een koelbox mee. Daarnaast is het handig om kleding en schoeisel aan te trekken die vies mogen worden. De benodigde apparatuur en messen worden beschikbaar gesteld\, dus je hoeft verder niets mee te nemen. (De prijs is inclusief 2 vleeshanen van KipEigen t.w.v. 67\,50 euro) \nVoorwaarden \nBij het reserveren en betalen van jouw plek in een cursus\, workshop of rondleiding\, gelden de volgende voorwaarden: \n\nBij annulering is 100% geld terug mogelijk tot 2 maanden voor de gereserveerde datum.\nWanneer annulering plaatsvindt binnen 8 weken vóór de gereserveerde datum\, ontvang je 50% van het cursusgeld terug en binnen 4 weken geldt een restitutie van 25%\, i.v.m. het vrijhouden van jouw plek in de cursusgroep.\nWanneer een reservering later dan 2 weken voor aanvang van de cursus geannuleerd wordt\, kunnen wij geen cursusgeld restitueren.\nBij ziekte/overmacht is het in overleg mogelijk om jouw reservering kosteloos door te schuiven naar een cursusdatum verder in de toekomst.
URL:https://kipeigen.nl/evenement/workshop-kip-slachten-2/
LOCATION:Natuurboerderij KipEigen\, Nieuw-Loosdrechtsedijk 24\, Loosdrecht\, 1231 KX
CATEGORIES:Workshop
ATTACH;FMTTYPE=image/png:https://kipeigen.nl/wp-content/uploads/2026/02/kip-slachten-workshop-KipEigen.png
END:VEVENT
END:VCALENDAR