BEGIN:VCALENDAR
VERSION:2.0
PRODID:-//Natuurboerderij KipEigen - ECPv6.15.20//NONSGML v1.0//EN
CALSCALE:GREGORIAN
METHOD:PUBLISH
X-ORIGINAL-URL:https://kipeigen.nl
X-WR-CALDESC:Evenementen voor Natuurboerderij KipEigen
REFRESH-INTERVAL;VALUE=DURATION:PT1H
X-Robots-Tag:noindex
X-PUBLISHED-TTL:PT1H
BEGIN:VTIMEZONE
TZID:Europe/Amsterdam
BEGIN:DAYLIGHT
TZOFFSETFROM:+0100
TZOFFSETTO:+0200
TZNAME:CEST
DTSTART:20250330T010000
END:DAYLIGHT
BEGIN:STANDARD
TZOFFSETFROM:+0200
TZOFFSETTO:+0100
TZNAME:CET
DTSTART:20251026T010000
END:STANDARD
BEGIN:DAYLIGHT
TZOFFSETFROM:+0100
TZOFFSETTO:+0200
TZNAME:CEST
DTSTART:20260329T010000
END:DAYLIGHT
BEGIN:STANDARD
TZOFFSETFROM:+0200
TZOFFSETTO:+0100
TZNAME:CET
DTSTART:20261025T010000
END:STANDARD
BEGIN:DAYLIGHT
TZOFFSETFROM:+0100
TZOFFSETTO:+0200
TZNAME:CEST
DTSTART:20270328T010000
END:DAYLIGHT
BEGIN:STANDARD
TZOFFSETFROM:+0200
TZOFFSETTO:+0100
TZNAME:CET
DTSTART:20271031T010000
END:STANDARD
END:VTIMEZONE
BEGIN:VEVENT
DTSTART;TZID=Europe/Amsterdam:20260725T130000
DTEND;TZID=Europe/Amsterdam:20260725T150000
DTSTAMP:20260425T220533
CREATED:20260225T133139Z
LAST-MODIFIED:20260328T140710Z
UID:1386-1784984400-1784991600@kipeigen.nl
SUMMARY:Workshop Tuinthee
DESCRIPTION:De lekkerste kruidenthee maak je gewoon zelf. Tijdens deze workshop nemen we je mee op een plukrondleiding langs onze kruiden en bloemen\, vers van het land en vol geur en smaak. Je ontdekt hoeveel variatie er is\, van fris en kruidig tot zacht en bloemig. En je leert hoe je smaken combineert tot een thee die helemaal bij je past. \nWe staan stil bij het drogen van kruiden\, zodat je ook buiten het seizoen kunt blijven genieten\, en delen praktische tips om zelf kruiden te verbouwen. Natuurlijk gaan we ook proeven: we sluiten af met een ontspannen theemoment waarin je je eigen melange samenstelt en meteen kunt ervaren. Je gaat naar huis met een bosje theekruiden\, een kleine verrassing en volop inspiratie om je eigen theetuin(tje) te laten groeien. \nWorkshopbegeleider: Saskia van Gelderen\, hoofdtuinder van Natuurboerderij KipEigen
URL:https://kipeigen.nl/evenement/workshop-tuinthee/
LOCATION:Natuurboerderij KipEigen\, Nieuw-Loosdrechtsedijk 24\, Loosdrecht\, 1231 KX
CATEGORIES:Workshop
ATTACH;FMTTYPE=image/png:https://kipeigen.nl/wp-content/uploads/2026/02/saskia-hoofdtuinder.png
END:VEVENT
END:VCALENDAR