BEGIN:VCALENDAR
VERSION:2.0
PRODID:-//Natuurboerderij KipEigen - ECPv6.15.20//NONSGML v1.0//EN
CALSCALE:GREGORIAN
METHOD:PUBLISH
X-WR-CALNAME:Natuurboerderij KipEigen
X-ORIGINAL-URL:https://kipeigen.nl
X-WR-CALDESC:Evenementen voor Natuurboerderij KipEigen
REFRESH-INTERVAL;VALUE=DURATION:PT1H
X-Robots-Tag:noindex
X-PUBLISHED-TTL:PT1H
BEGIN:VTIMEZONE
TZID:Europe/Amsterdam
BEGIN:DAYLIGHT
TZOFFSETFROM:+0100
TZOFFSETTO:+0200
TZNAME:CEST
DTSTART:20250330T010000
END:DAYLIGHT
BEGIN:STANDARD
TZOFFSETFROM:+0200
TZOFFSETTO:+0100
TZNAME:CET
DTSTART:20251026T010000
END:STANDARD
BEGIN:DAYLIGHT
TZOFFSETFROM:+0100
TZOFFSETTO:+0200
TZNAME:CEST
DTSTART:20260329T010000
END:DAYLIGHT
BEGIN:STANDARD
TZOFFSETFROM:+0200
TZOFFSETTO:+0100
TZNAME:CET
DTSTART:20261025T010000
END:STANDARD
BEGIN:DAYLIGHT
TZOFFSETFROM:+0100
TZOFFSETTO:+0200
TZNAME:CEST
DTSTART:20270328T010000
END:DAYLIGHT
BEGIN:STANDARD
TZOFFSETFROM:+0200
TZOFFSETTO:+0100
TZNAME:CET
DTSTART:20271031T010000
END:STANDARD
END:VTIMEZONE
BEGIN:VEVENT
DTSTART;TZID=Europe/Amsterdam:20260905T100000
DTEND;TZID=Europe/Amsterdam:20260905T130000
DTSTAMP:20260426T004800
CREATED:20260328T151328Z
LAST-MODIFIED:20260328T151328Z
UID:1808-1788602400-1788613200@kipeigen.nl
SUMMARY:Workshop Oogst verwerken | Zomer
DESCRIPTION:Zomerworkshop – start met fermenteren (± 3 uur)\n\nIn de zomer gaan we aan de slag met frisse smaken en eenvoudige technieken.\nJe leert hoe fermenteren werkt en maakt je eerste eigen fermentatie.\n\nTijdens de workshop:\n• krijg je je eigen startercultuur\n• ga je aan de slag met een eerste groentefermentatie\n• en ontdek je hoe je een natuurlijke frisdrank kunt maken.\n\nJe gaat naar huis met nieuwe kennis én iets dat thuis verder kan fermenteren.\nDatum: zaterdag 5 september\n\nTip: met het Workshop-pakket Vier Seizoenen volg je deze workshop met nog drie andere voor een mooie pakketprijs. \nWorkshop-pakket Vier seizoenen | Oogst verwerken
URL:https://kipeigen.nl/evenement/workshop-oogst-verwerken-zomer/
LOCATION:Natuurboerderij KipEigen\, Nieuw-Loosdrechtsedijk 24\, Loosdrecht\, 1231 KX
CATEGORIES:Workshop
ATTACH;FMTTYPE=image/jpeg:https://kipeigen.nl/wp-content/uploads/2026/02/WhatsApp-Image-2026-03-19-at-14.26.38-scaled.jpeg
END:VEVENT
BEGIN:VEVENT
DTSTART;TZID=Europe/Amsterdam:20260905T100000
DTEND;TZID=Europe/Amsterdam:20260905T160000
DTSTAMP:20260426T004800
CREATED:20260225T131100Z
LAST-MODIFIED:20260327T203317Z
UID:1352-1788602400-1788624000@kipeigen.nl
SUMMARY:Basiscursus No-dig Moestuin
DESCRIPTION:In deze cursus leer je alles over de no-dig methode\, de voor- en nadelen ervan\,en het waarom achter deze methode. Profiteer van de kennis en ervaring die we hier voor Natuurboerderij KipEigen de afgelopen jaren hebben opgedaan. \nJe leert de verschillende manieren waarop je kan starten met no-dig en welke tools je nodig hebt. Je krijgt een kijkje in de keuken hoe we zelf compost maken\, hoe we zelf zaden opkweken\, en hoe we ons teeltplan maken. Je kunt al je vragen stellen en advies inwinnen voor je eigen moestuin of tuinderij. \nTijd: 10.00 – 16.00 uur \n\n		\n		\n			\n				\n			\n			\n				\n			\n			\n				\n			\n		\n\nVoorwaarden \nBij het reserveren en betalen van jouw plek in een cursus\, workshop of rondleiding\, gelden de volgende voorwaarden: \n\nBij annulering is 100% geld terug mogelijk tot 2 maanden voor de gereserveerde datum.\nWanneer annulering plaatsvindt binnen 8 weken vóór de gereserveerde datum\, ontvang je 50% van het cursusgeld terug en binnen 4 weken geldt een restitutie van 25%\, i.v.m. het vrijhouden van jouw plek in de cursusgroep.\nWanneer een reservering later dan 2 weken voor aanvang van de cursus geannuleerd wordt\, kunnen wij geen cursusgeld restitueren.\nBij ziekte/overmacht is het in overleg mogelijk om jouw reservering kosteloos door te schuiven naar een cursusdatum verder in de toekomst.
URL:https://kipeigen.nl/evenement/basiscursus-no-dig-moestuin/
LOCATION:Natuurboerderij KipEigen\, Nieuw-Loosdrechtsedijk 24\, Loosdrecht\, 1231 KX
CATEGORIES:Cursussen
ATTACH;FMTTYPE=image/png:https://kipeigen.nl/wp-content/uploads/2026/01/courgette.png
END:VEVENT
BEGIN:VEVENT
DTSTART;TZID=Europe/Amsterdam:20260919T100000
DTEND;TZID=Europe/Amsterdam:20260919T160000
DTSTAMP:20260426T004800
CREATED:20260225T131334Z
LAST-MODIFIED:20260317T123631Z
UID:1355-1789812000-1789833600@kipeigen.nl
SUMMARY:Dagcursus Natuurlijk kippen houden PRO
DESCRIPTION:Deze cursus is speciaal voor mensen die professioneel kleinschalig kippen houden of dit ambiëren. \nDeze cursus is echt wat voor jou als je meer wilt weten over het houden van kippen op een natuurlijke wijze. Een dag lang laten we je zien hoe we het hier aanpakken bij KipEigen en vertellen we over thema’s als welzijn\, gezondheid en natuurlijk gedrag van kippen. Je krijgt antwoord op vragen zoals: hoe bescherm ik mijn kippen tegen vossen en roofvogels? Wat voer ik mijn kippen? Hoe ziet een boer- en kipvriendelijke huisvesting eruit? Hoe werk ik efficiënt genoeg om rendabel te zijn\, zonder in te leveren op mijn idealen? Je gaat naar huis met veel kennis en handige tips & tricks om jouw kippen op een professionele\, kleinschalige en natuurlijke manier te houden. \nBen je na deze basiscursus klaar voor meer diepgang over dit onderwerp? Na het volgen van deze cursus krijg je 10% korting op de verdiepende online cursus kleinschalig kippen houden\, voor professionals en fanatieke hobbyisten. \nTijd: 10:00-16:00 uur\, inclusief koffie/thee \nVoorwaarden \nBij het reserveren en betalen van jouw plek in een cursus\, workshop of rondleiding\, gelden de volgende voorwaarden: \n\nBij annulering is 100% geld terug mogelijk tot 2 maanden voor de gereserveerde datum.\nWanneer annulering plaatsvindt binnen 8 weken vóór de gereserveerde datum\, ontvang je 50% van het cursusgeld terug en binnen 4 weken geldt een restitutie van 25%\, i.v.m. het vrijhouden van jouw plek in de cursusgroep.\nWanneer een reservering later dan 2 weken voor aanvang van de cursus geannuleerd wordt\, kunnen wij geen cursusgeld restitueren.\nBij ziekte/overmacht is het in overleg mogelijk om jouw reservering kosteloos door te schuiven naar een cursusdatum verder in de toekomst.
URL:https://kipeigen.nl/evenement/basiscursus-natuurlijk-kippen-houden/
LOCATION:Natuurboerderij KipEigen\, Nieuw-Loosdrechtsedijk 24\, Loosdrecht\, 1231 KX
CATEGORIES:Cursussen
ATTACH;FMTTYPE=image/jpeg:https://kipeigen.nl/wp-content/uploads/2025/12/20230503_075817_IH.jpg
END:VEVENT
BEGIN:VEVENT
DTSTART;TZID=Europe/Amsterdam:20260926T100000
DTEND;TZID=Europe/Amsterdam:20260926T130000
DTSTAMP:20260426T004800
CREATED:20260225T132940Z
LAST-MODIFIED:20260328T142121Z
UID:1380-1790416800-1790427600@kipeigen.nl
SUMMARY:Workshop Oogst verwerken | herfst
DESCRIPTION:Herfstworkshop – verdiepen in fermenteren (± 3 uur)\n\nHerfst is hét seizoen om groenten te bewaren.\nIn deze workshop duiken we dieper in de wereld van fermentatie en werken we met echte seizoensgroenten.\n\nWe kijken niet alleen naar hoe het moet\, maar ook waarom het werkt.\nJe gaat zelf aan de slag en neemt je eigen fermentatie mee naar huis.\n\nInclusief fermenteerpot met 3delig waterslot\n\n\n\n		\n		\n			\n				\n			\n			\n				\n			\n			\n				\n			\n		\n\n\nTip: met het Workshop-pakket Vier Seizoenen volg je deze workshop met nog drie andere voor een mooie pakketprijs. \nWorkshop-pakket Vier seizoenen | Oogst verwerken
URL:https://kipeigen.nl/evenement/workshop-oogst-verwerken-herfst/
LOCATION:Natuurboerderij KipEigen\, Nieuw-Loosdrechtsedijk 24\, Loosdrecht\, 1231 KX
CATEGORIES:Workshop
ATTACH;FMTTYPE=image/jpeg:https://kipeigen.nl/wp-content/uploads/2026/02/WhatsApp-Image-2026-03-19-at-14.28.42-scaled.jpeg
END:VEVENT
BEGIN:VEVENT
DTSTART;TZID=Europe/Amsterdam:20260926T100000
DTEND;TZID=Europe/Amsterdam:20260926T130000
DTSTAMP:20260426T004800
CREATED:20260317T122751Z
LAST-MODIFIED:20260317T123454Z
UID:1627-1790416800-1790427600@kipeigen.nl
SUMMARY:Basiscursus Natuurlijk kippen houden
DESCRIPTION:Deze cursus is speciaal voor mensen die kippen houden en meer willen weten over hoe je deze op natuurlijke wijze kunt houden. \nEen ochtend lang laten we je zien hoe we het hier aanpakken bij KipEigen en vertellen we over thema’s als welzijn\, gezondheid en natuurlijk gedrag van kippen. Je krijgt antwoord op vragen zoals: hoe bescherm ik mijn kippen tegen vossen en roofvogels? Wat voer ik mijn kippen? Hoe kan je kippen slim houden in combinatie met moestuin\, boomgaard of gras? Je gaat naar huis met veel kennis en handige tips & tricks om jouw kippen op een leuke en natuurlijke manier te houden. \nBen je na deze basiscursus klaar voor meer diepgang over dit onderwerp? Na het volgen van deze cursus krijg je 10% korting op de verdiepende online cursus kleinschalig kippen houden\, voor professionals en fanatieke hobbyisten. \nTijd: 10:00-13:00 uur\, inclusief koffie/thee \nVoorwaarden \nBij het reserveren en betalen van jouw plek in een cursus\, workshop of rondleiding\, gelden de volgende voorwaarden: \n\nBij annulering is 100% geld terug mogelijk tot 2 maanden voor de gereserveerde datum.\nWanneer annulering plaatsvindt binnen 8 weken vóór de gereserveerde datum\, ontvang je 50% van het cursusgeld terug en binnen 4 weken geldt een restitutie van 25%\, i.v.m. het vrijhouden van jouw plek in de cursusgroep.\nWanneer een reservering later dan 2 weken voor aanvang van de cursus geannuleerd wordt\, kunnen wij geen cursusgeld restitueren.\nBij ziekte/overmacht is het in overleg mogelijk om jouw reservering kosteloos door te schuiven naar een cursusdatum verder in de toekomst.
URL:https://kipeigen.nl/evenement/basiscursus-natuurlijk-kippen-houden-2/
LOCATION:Natuurboerderij KipEigen\, Nieuw-Loosdrechtsedijk 24\, Loosdrecht\, 1231 KX
CATEGORIES:Cursussen
ATTACH;FMTTYPE=image/jpeg:https://kipeigen.nl/wp-content/uploads/2025/12/20230503_075817_IH.jpg
END:VEVENT
END:VCALENDAR